 BEGIN:VCALENDAR
VERSION:2.0
PRODID:-//SFCCP - ECPv6.15.12.2//NONSGML v1.0//EN
CALSCALE:GREGORIAN
METHOD:PUBLISH
X-WR-CALNAME:SFCCP
X-ORIGINAL-URL:https://sfccpnetwork.org
X-WR-CALDESC:Events for SFCCP
REFRESH-INTERVAL;VALUE=DURATION:PT1H
X-Robots-Tag:noindex
X-PUBLISHED-TTL:PT1H
BEGIN:VTIMEZONE
TZID:America/New_York
BEGIN:DAYLIGHT
TZOFFSETFROM:-0500
TZOFFSETTO:-0400
TZNAME:EDT
DTSTART:20250309T070000
END:DAYLIGHT
BEGIN:STANDARD
TZOFFSETFROM:-0400
TZOFFSETTO:-0500
TZNAME:EST
DTSTART:20251102T060000
END:STANDARD
BEGIN:DAYLIGHT
TZOFFSETFROM:-0500
TZOFFSETTO:-0400
TZNAME:EDT
DTSTART:20260308T070000
END:DAYLIGHT
BEGIN:STANDARD
TZOFFSETFROM:-0400
TZOFFSETTO:-0500
TZNAME:EST
DTSTART:20261101T060000
END:STANDARD
BEGIN:DAYLIGHT
TZOFFSETFROM:-0500
TZOFFSETTO:-0400
TZNAME:EDT
DTSTART:20270314T070000
END:DAYLIGHT
BEGIN:STANDARD
TZOFFSETFROM:-0400
TZOFFSETTO:-0500
TZNAME:EST
DTSTART:20271107T060000
END:STANDARD
END:VTIMEZONE
BEGIN:VEVENT
DTSTART;TZID=America/New_York:20260226T140000
DTEND;TZID=America/New_York:20260226T160000
DTSTAMP:20260421T061257
CREATED:20251126T152045Z
LAST-MODIFIED:20260226T184853Z
UID:20346-1772114400-1772121600@sfccpnetwork.org
SUMMARY:Financial Empowerment for Individuals with Disabilities
DESCRIPTION:You may already be working with individuals with disabilities—and not even realize it. Join us for a powerful and informative webinar with Nancy Boutot of the National Disability Institute\, as we explore how financial coaching can play a transformative role in the lives of people with disabilities.
URL:https://sfccpnetwork.org/event/financial-empowerment-for-individuals-with-disabilities/
LOCATION:Financial Empowerment for Individuals with Disabilities Webinar\, https://us06web.zoom.us/j/83256212903?pwd=Gud7dg4TvCbj29owqHYCJwWykzhgpw.1
END:VEVENT
BEGIN:VEVENT
DTSTART;TZID=America/New_York:20260313T140000
DTEND;TZID=America/New_York:20260313T160000
DTSTAMP:20260421T061257
CREATED:20251201T161138Z
LAST-MODIFIED:20260226T191803Z
UID:20547-1773410400-1773417600@sfccpnetwork.org
SUMMARY:Demystifying FICO Scores for Credit and Financial Counselors Webinar
DESCRIPTION:Boost Your Financial Counseling Expertise! \nJoin our upcoming FICO® Webinar to gain essential insights into: \n\nThe FICO® Score and how it works\nDifferent scoring models\nThe 5 key categories of FICO® Score predictive characteristics\n\nWalk away with knowledge that will empower your client sessions and put valuable insights at your fingertips!
URL:https://sfccpnetwork.org/event/fico-webinar-pt-2-with-elaine-cozart/
LOCATION:FICO Webinar 3/13/2026\, https://us06web.zoom.us/j/84189176734?pwd=6c0S5wfYc37WYg3cnsMIkL9w26Vx54.1
END:VEVENT
BEGIN:VEVENT
DTSTART;TZID=America/New_York:20260327T140000
DTEND;TZID=America/New_York:20260327T160000
DTSTAMP:20260421T061257
CREATED:20251208T193433Z
LAST-MODIFIED:20260122T155319Z
UID:20744-1774620000-1774627200@sfccpnetwork.org
SUMMARY:Ethics Webinar - with Instructor Roy Bush
DESCRIPTION:This session highlights key ethical principles that support responsible and professional financial counseling. Attendees will explore practical considerations and real-world situations to help strengthen judgment\, boundaries\, and client trust.
URL:https://sfccpnetwork.org/event/ethics-webinar-with-instructor-roy-bush/
LOCATION:Ethics Webinar\, https://us06web.zoom.us/j/82763223272?pwd=Z5DuYP5ObYaigE2xiCwM5hjQIZiyGM.1
END:VEVENT
BEGIN:VEVENT
DTSTART;TZID=America/New_York:20260508T140000
DTEND;TZID=America/New_York:20260508T160000
DTSTAMP:20260421T061257
CREATED:20251210T171900Z
LAST-MODIFIED:20260122T155303Z
UID:20852-1778248800-1778256000@sfccpnetwork.org
SUMMARY:Veterans & Retirement Webinar - with Instructor Roy Bush
DESCRIPTION:This session provides an overview of key considerations in serving veterans and supporting clients preparing for retirement. Attendees will explore foundational insights for both areas\, helping counselors better understand the unique needs and resources relevant to veterans\, as well as the core principles involved in effective retirement planning.
URL:https://sfccpnetwork.org/event/veterans-retirement-webinar-with-instructor-roy-bush/
LOCATION:Veterans & Retirement Webinar\, https://us06web.zoom.us/j/83880063596?pwd=6Vn5BcZ9Zgsl3ONad09rdE69cFDUz4.1
END:VEVENT
BEGIN:VEVENT
DTSTART;TZID=America/New_York:20260515T140000
DTEND;TZID=America/New_York:20260515T160000
DTSTAMP:20260421T061257
CREATED:20251210T172235Z
LAST-MODIFIED:20260122T155257Z
UID:20858-1778853600-1778860800@sfccpnetwork.org
SUMMARY:Keeping Financial Counselors Current: The Power of Continuing Education Webinar
DESCRIPTION:
URL:https://sfccpnetwork.org/event/keeping-financial-counselors-current-the-power-of-continuing-education-webinar/
LOCATION:Keeping Financial Counselors Current: The Power of Continuing Education Webinar\, https://us06web.zoom.us/j/83314715682?pwd=K7c3g3TGHrmdaxlMlShSvxxY3QyJXz.1
END:VEVENT
BEGIN:VEVENT
DTSTART;TZID=America/New_York:20260522T140000
DTEND;TZID=America/New_York:20260522T160000
DTSTAMP:20260421T061257
CREATED:20251210T172646Z
LAST-MODIFIED:20260122T155251Z
UID:20864-1779458400-1779465600@sfccpnetwork.org
SUMMARY:Counseling in Action Software Webinar
DESCRIPTION:This session offers an introduction to the Counseling in Action software and how it supports the financial counseling process. Attendees will learn how the software streamlines session flow\, enhances client engagement\, and helps counselors create effective\, goal-driven action plans.
URL:https://sfccpnetwork.org/event/counseling-in-action-software-webinar/
LOCATION:Counseling in Action Webinar\, https://us06web.zoom.us/j/87541962779?pwd=n54PsNbxRMJLNgKRUhc6mM7PqMmBeR.1
END:VEVENT
BEGIN:VEVENT
DTSTART;TZID=America/New_York:20260605T140000
DTEND;TZID=America/New_York:20260605T160000
DTSTAMP:20260421T061257
CREATED:20251210T173441Z
LAST-MODIFIED:20260122T155243Z
UID:20870-1780668000-1780675200@sfccpnetwork.org
SUMMARY:Motivation\, Fitness & Self-Care Webinar
DESCRIPTION:This session highlights Jeannie\, creator of MyHipHopFit\, and her wellness approach that blends mindset\, movement\, and self-care. Drawing from her work in fitness and personal empowerment\, she offers practical ways to boost energy\, strengthen confidence\, and support overall well-being for both counselors and clients.
URL:https://sfccpnetwork.org/event/motivation-fitness-self-care-webinar/
LOCATION:Motivation\, Fitness\, and Self Care Webinar\, https://us06web.zoom.us/j/88546906773?pwd=Ak5CjyBE2iSB6aMO34DlwXbTxF8GvW.1
END:VEVENT
BEGIN:VEVENT
DTSTART;TZID=America/New_York:20260619T140000
DTEND;TZID=America/New_York:20260619T160000
DTSTAMP:20260421T061257
CREATED:20251210T174513Z
LAST-MODIFIED:20260122T155238Z
UID:20884-1781877600-1781884800@sfccpnetwork.org
SUMMARY:Private Student Loans Webinar - with Andrew Weber
DESCRIPTION:This session\, led by Andrew Weber\, takes a practical look at private student loans and how they fit into a client’s overall financial picture. Attendees will gain a clearer understanding of key terms\, risks\, and options so they can better support borrowers in navigating repayment choices and avoiding common pitfalls.
URL:https://sfccpnetwork.org/event/private-student-loans-webinar-with-andrew-weber/
LOCATION:Private Student Loans Webinar – with Andrew Weber\, https://us06web.zoom.us/j/82554846763?pwd=4G6dAKaiJPkGNX19sCDeqkE8M3l5CD.1
END:VEVENT
BEGIN:VEVENT
DTSTART;TZID=America/New_York:20260821T140000
DTEND;TZID=America/New_York:20260821T160000
DTSTAMP:20260421T061257
CREATED:20251210T174025Z
LAST-MODIFIED:20260122T155232Z
UID:20878-1787320800-1787328000@sfccpnetwork.org
SUMMARY:Over Shopping Webinar - with Janera Harvey
DESCRIPTION:This session explores the patterns and emotions behind over shopping and how they impact financial wellness. Janera shares insights to help counselors better understand client behaviors\, identify triggers\, and support healthier spending habits through practical\, compassionate strategies.
URL:https://sfccpnetwork.org/event/over-shopping-webinar-with-janera-harvey/
LOCATION:Over Shopping Webinar – with Janera Harvey\, https://us06web.zoom.us/j/82836772392?pwd=5gDYLCCAYTVuz9fOtFteCBHd84FW7L.1
END:VEVENT
BEGIN:VEVENT
DTSTART;TZID=America/New_York:20260925T140000
DTEND;TZID=America/New_York:20260925T160000
DTSTAMP:20260421T061257
CREATED:20251201T154954Z
LAST-MODIFIED:20260122T155224Z
UID:20530-1790344800-1790352000@sfccpnetwork.org
SUMMARY:Federal Student Loans Webinar
DESCRIPTION:Join us for an informative session on Federal Student Loans with presenter Carter Davis from Hope Hero. \nAs CEO of Hope Hero Las Vegas\, Carter Davis leads a student loan and credit assistance firm that has secured over $30 million in federal student loan forgiveness while helping thousands of borrowers navigate income-driven repayment plans over the past decade. Drawing from his own experience as a borrower with six-figure student loan debt\, he founded the company with a mission to provide accurate document preparation and credit reporting corrections with an emphasis on service\, precision\, and empathy. \nUnder his leadership\, Hope Hero’s team of nine specialists has developed comprehensive strategies that empower borrowers to successfully maximize their federal student loan benefits.
URL:https://sfccpnetwork.org/event/federal-student-loans-webinar/
LOCATION:Federal Student Loans Webinar\, https://us06web.zoom.us/j/88960789104?pwd=11YnT8IX0XQm0I2uIbX1JInFlQgYzN.1
END:VEVENT
END:VCALENDAR