 BEGIN:VCALENDAR
VERSION:2.0
PRODID:-//SFCCP - ECPv6.15.12.2//NONSGML v1.0//EN
CALSCALE:GREGORIAN
METHOD:PUBLISH
X-WR-CALNAME:SFCCP
X-ORIGINAL-URL:https://sfccpnetwork.org
X-WR-CALDESC:Events for SFCCP
REFRESH-INTERVAL;VALUE=DURATION:PT1H
X-Robots-Tag:noindex
X-PUBLISHED-TTL:PT1H
BEGIN:VTIMEZONE
TZID:America/New_York
BEGIN:DAYLIGHT
TZOFFSETFROM:-0500
TZOFFSETTO:-0400
TZNAME:EDT
DTSTART:20250309T070000
END:DAYLIGHT
BEGIN:STANDARD
TZOFFSETFROM:-0400
TZOFFSETTO:-0500
TZNAME:EST
DTSTART:20251102T060000
END:STANDARD
BEGIN:DAYLIGHT
TZOFFSETFROM:-0500
TZOFFSETTO:-0400
TZNAME:EDT
DTSTART:20260308T070000
END:DAYLIGHT
BEGIN:STANDARD
TZOFFSETFROM:-0400
TZOFFSETTO:-0500
TZNAME:EST
DTSTART:20261101T060000
END:STANDARD
BEGIN:DAYLIGHT
TZOFFSETFROM:-0500
TZOFFSETTO:-0400
TZNAME:EDT
DTSTART:20270314T070000
END:DAYLIGHT
BEGIN:STANDARD
TZOFFSETFROM:-0400
TZOFFSETTO:-0500
TZNAME:EST
DTSTART:20271107T060000
END:STANDARD
END:VTIMEZONE
BEGIN:VTIMEZONE
TZID:UTC
BEGIN:STANDARD
TZOFFSETFROM:+0000
TZOFFSETTO:+0000
TZNAME:UTC
DTSTART:20230101T000000
END:STANDARD
END:VTIMEZONE
BEGIN:VEVENT
DTSTART;TZID=America/New_York:20260508T140000
DTEND;TZID=America/New_York:20260508T160000
DTSTAMP:20260420T233842
CREATED:20251210T171900Z
LAST-MODIFIED:20260122T155303Z
UID:20852-1778248800-1778256000@sfccpnetwork.org
SUMMARY:Veterans & Retirement Webinar - with Instructor Roy Bush
DESCRIPTION:This session provides an overview of key considerations in serving veterans and supporting clients preparing for retirement. Attendees will explore foundational insights for both areas\, helping counselors better understand the unique needs and resources relevant to veterans\, as well as the core principles involved in effective retirement planning.
URL:https://sfccpnetwork.org/event/veterans-retirement-webinar-with-instructor-roy-bush/
LOCATION:Veterans & Retirement Webinar\, https://us06web.zoom.us/j/83880063596?pwd=6Vn5BcZ9Zgsl3ONad09rdE69cFDUz4.1
END:VEVENT
BEGIN:VEVENT
DTSTART;TZID=America/New_York:20260327T140000
DTEND;TZID=America/New_York:20260327T160000
DTSTAMP:20260420T233842
CREATED:20251208T193433Z
LAST-MODIFIED:20260122T155319Z
UID:20744-1774620000-1774627200@sfccpnetwork.org
SUMMARY:Ethics Webinar - with Instructor Roy Bush
DESCRIPTION:This session highlights key ethical principles that support responsible and professional financial counseling. Attendees will explore practical considerations and real-world situations to help strengthen judgment\, boundaries\, and client trust.
URL:https://sfccpnetwork.org/event/ethics-webinar-with-instructor-roy-bush/
LOCATION:Ethics Webinar\, https://us06web.zoom.us/j/82763223272?pwd=Z5DuYP5ObYaigE2xiCwM5hjQIZiyGM.1
END:VEVENT
BEGIN:VEVENT
DTSTART;TZID=America/New_York:20260313T140000
DTEND;TZID=America/New_York:20260313T160000
DTSTAMP:20260420T233842
CREATED:20251201T161138Z
LAST-MODIFIED:20260226T191803Z
UID:20547-1773410400-1773417600@sfccpnetwork.org
SUMMARY:Demystifying FICO Scores for Credit and Financial Counselors Webinar
DESCRIPTION:Boost Your Financial Counseling Expertise! \nJoin our upcoming FICO® Webinar to gain essential insights into: \n\nThe FICO® Score and how it works\nDifferent scoring models\nThe 5 key categories of FICO® Score predictive characteristics\n\nWalk away with knowledge that will empower your client sessions and put valuable insights at your fingertips!
URL:https://sfccpnetwork.org/event/fico-webinar-pt-2-with-elaine-cozart/
LOCATION:FICO Webinar 3/13/2026\, https://us06web.zoom.us/j/84189176734?pwd=6c0S5wfYc37WYg3cnsMIkL9w26Vx54.1
END:VEVENT
BEGIN:VEVENT
DTSTART;TZID=America/New_York:20260226T140000
DTEND;TZID=America/New_York:20260226T160000
DTSTAMP:20260420T233842
CREATED:20251126T152045Z
LAST-MODIFIED:20260226T184853Z
UID:20346-1772114400-1772121600@sfccpnetwork.org
SUMMARY:Financial Empowerment for Individuals with Disabilities
DESCRIPTION:You may already be working with individuals with disabilities—and not even realize it. Join us for a powerful and informative webinar with Nancy Boutot of the National Disability Institute\, as we explore how financial coaching can play a transformative role in the lives of people with disabilities.
URL:https://sfccpnetwork.org/event/financial-empowerment-for-individuals-with-disabilities/
LOCATION:Financial Empowerment for Individuals with Disabilities Webinar\, https://us06web.zoom.us/j/83256212903?pwd=Gud7dg4TvCbj29owqHYCJwWykzhgpw.1
END:VEVENT
BEGIN:VEVENT
DTSTART;TZID=America/New_York:20260213T140000
DTEND;TZID=America/New_York:20260213T160000
DTSTAMP:20260420T233842
CREATED:20251208T190038Z
LAST-MODIFIED:20260213T151611Z
UID:20738-1770991200-1770998400@sfccpnetwork.org
SUMMARY:Keys to Success Review Webinar
DESCRIPTION:
URL:https://sfccpnetwork.org/event/keys-to-success-review-webinar/
LOCATION:Keys to Success Review Webinar\, https://us06web.zoom.us/j/81092912159?pwd=D4PC03hJZtYzImQgpcHnI6mauMo0j0.1
END:VEVENT
BEGIN:VEVENT
DTSTART;TZID=America/New_York:20260130T140000
DTEND;TZID=America/New_York:20260130T160000
DTSTAMP:20260420T233842
CREATED:20251201T160811Z
LAST-MODIFIED:20260122T154055Z
UID:20538-1769781600-1769788800@sfccpnetwork.org
SUMMARY:Introduction to FICO® Score Open Access for Credit & Financial Counseling Webinar
DESCRIPTION:Learn about this free program for nonprofit counselors\, get the details about what is included\, and how to enroll!
URL:https://sfccpnetwork.org/event/fico-webinar-with-elaine-cozart/
LOCATION:FICO Webinar 1/30/2026\, https://us06web.zoom.us/j/82472336764?pwd=dbmUN7ehBQcx5Q3eq9jAvnPkwLdhQr.1
END:VEVENT
BEGIN:VEVENT
DTSTART;TZID=America/New_York:20260116T140000
DTEND;TZID=America/New_York:20260116T160000
DTSTAMP:20260420T233842
CREATED:20251208T183529Z
LAST-MODIFIED:20260122T154753Z
UID:20553-1768572000-1768579200@sfccpnetwork.org
SUMMARY:From Renting to Homeowner Webinar - with Dr. Teresa R. Martin Esq.
DESCRIPTION:Making the leap from renting to owning a home can feel overwhelming—but it doesn’t have to be. In this webinar\, we break down the homebuying journey into clear\, manageable steps.
URL:https://sfccpnetwork.org/event/from-renting-to-homeowner-webinar-with-dr-teresa-r-martin-esq/
LOCATION:From Renting to Homeowner Webinar\, https://us06web.zoom.us/j/86871530880?pwd=947vESyV01ElOS38QMkHX8xb5ad3wd.1
END:VEVENT
BEGIN:VEVENT
DTSTART;TZID=UTC:20240104T080000
DTEND;TZID=UTC:20240104T170000
DTSTAMP:20260420T233842
CREATED:20240103T184321Z
LAST-MODIFIED:20240103T184321Z
UID:15386-1704355200-1704387600@sfccpnetwork.org
SUMMARY:test event
DESCRIPTION:
URL:https://sfccpnetwork.org/event/test-event/
LOCATION:Financial Empowerment for Individuals with Disabilities Webinar\, https://us06web.zoom.us/j/83256212903?pwd=Gud7dg4TvCbj29owqHYCJwWykzhgpw.1
END:VEVENT
END:VCALENDAR