 BEGIN:VCALENDAR
VERSION:2.0
PRODID:-//SFCCP - ECPv6.15.12.2//NONSGML v1.0//EN
CALSCALE:GREGORIAN
METHOD:PUBLISH
X-WR-CALNAME:SFCCP
X-ORIGINAL-URL:https://sfccpnetwork.org
X-WR-CALDESC:Events for SFCCP
REFRESH-INTERVAL;VALUE=DURATION:PT1H
X-Robots-Tag:noindex
X-PUBLISHED-TTL:PT1H
BEGIN:VTIMEZONE
TZID:UTC
BEGIN:STANDARD
TZOFFSETFROM:+0000
TZOFFSETTO:+0000
TZNAME:UTC
DTSTART:20230101T000000
END:STANDARD
END:VTIMEZONE
BEGIN:VEVENT
DTSTART;TZID=UTC:20240104T080000
DTEND;TZID=UTC:20240104T170000
DTSTAMP:20260421T032311
CREATED:20240103T184321Z
LAST-MODIFIED:20240103T184321Z
UID:15386-1704355200-1704387600@sfccpnetwork.org
SUMMARY:test event
DESCRIPTION:
URL:https://sfccpnetwork.org/event/test-event/
LOCATION:Financial Empowerment for Individuals with Disabilities Webinar\, https://us06web.zoom.us/j/83256212903?pwd=Gud7dg4TvCbj29owqHYCJwWykzhgpw.1
END:VEVENT
END:VCALENDAR